BEGIN:VCALENDAR
VERSION:2.0
PRODID:-//A V E - ECPv6.15.20//NONSGML v1.0//EN
CALSCALE:GREGORIAN
METHOD:PUBLISH
X-WR-CALNAME:A V E
X-ORIGINAL-URL:https://archaeologischer-verein-erding.de
X-WR-CALDESC:Veranstaltungen für A V E
REFRESH-INTERVAL;VALUE=DURATION:PT1H
X-Robots-Tag:noindex
X-PUBLISHED-TTL:PT1H
BEGIN:VTIMEZONE
TZID:Europe/Berlin
BEGIN:DAYLIGHT
TZOFFSETFROM:+0100
TZOFFSETTO:+0200
TZNAME:CEST
DTSTART:20250330T010000
END:DAYLIGHT
BEGIN:STANDARD
TZOFFSETFROM:+0200
TZOFFSETTO:+0100
TZNAME:CET
DTSTART:20251026T010000
END:STANDARD
BEGIN:DAYLIGHT
TZOFFSETFROM:+0100
TZOFFSETTO:+0200
TZNAME:CEST
DTSTART:20260329T010000
END:DAYLIGHT
BEGIN:STANDARD
TZOFFSETFROM:+0200
TZOFFSETTO:+0100
TZNAME:CET
DTSTART:20261025T010000
END:STANDARD
BEGIN:DAYLIGHT
TZOFFSETFROM:+0100
TZOFFSETTO:+0200
TZNAME:CEST
DTSTART:20270328T010000
END:DAYLIGHT
BEGIN:STANDARD
TZOFFSETFROM:+0200
TZOFFSETTO:+0100
TZNAME:CET
DTSTART:20271031T010000
END:STANDARD
END:VTIMEZONE
BEGIN:VEVENT
DTSTART;TZID=Europe/Berlin:20260702T190000
DTEND;TZID=Europe/Berlin:20260702T210000
DTSTAMP:20260423T212530
CREATED:20260228T094402Z
LAST-MODIFIED:20260228T100256Z
UID:21961-1783018800-1783026000@archaeologischer-verein-erding.de
SUMMARY:Stammtisch
DESCRIPTION:Ab 19 Uhr in Jimmy’s Restaurant\nAm Stadion 12\n85435 Erding \nNichtmitglieder herzlich willkommen!
URL:https://archaeologischer-verein-erding.de/veranstaltung/stammtisch-3/
LOCATION:Jimmy’s Restaurant\, Am Stadion 12\, Erding
CATEGORIES:Stammtisch,Verein
END:VEVENT
END:VCALENDAR